{ "currentVersion": 10.91, "serviceDescription": "
These digital images of aerial photographs have had the displacements caused by the camera and terrain removed. Each image represents 1/4 of a standard USGS 7.5 minute quadrangle map extent. The images are black and white, compressed .jpg format, 256 radiometric brightness levels-of-grey and contain no attributes. The original uncompressed format files are in .bip. The images were flown in 1993 - 1995 as conditions and photo quality allowed. The images have a resolution of 1 ground meter and have been pixel rectified to create a spatially accurate image.<\/span><\/p><\/div><\/div><\/div>",
"name": "Imagery/DOQQ_NC_1993",
"description": " These digital images of aerial photographs have had the displacements caused by the camera and terrain removed. Each image represents 1/4 of a standard USGS 7.5 minute quadrangle map extent. The images are black and white, compressed .jpg format, 256 radiometric brightness levels-of-grey and contain no attributes. The original uncompressed format files are in .bip. The images were flown in 1993 - 1995 as conditions and photo quality allowed. The images have a resolution of 1 ground meter and have been pixel rectified to create a spatially accurate image.<\/span><\/p><\/div><\/div><\/div>",
"extent": {
"xmin": 118847.45880000172,
"ymin": 6997.135700001789,
"xmax": 932768.4587999935,
"ymax": 322366.1356999986,
"spatialReference": {
"wkid": 32119,
"latestWkid": 32119
}
},
"initialExtent": {
"xmin": 118847.45880000172,
"ymin": 6997.135700001789,
"xmax": 932768.4587999935,
"ymax": 322366.1356999986,
"spatialReference": {
"wkid": 32119,
"latestWkid": 32119
}
},
"fullExtent": {
"xmin": 118847.45880000172,
"ymin": 6997.135700001789,
"xmax": 932768.4587999935,
"ymax": 322366.1356999986,
"spatialReference": {
"wkid": 32119,
"latestWkid": 32119
}
},
"hasMultidimensions": false,
"pixelSizeX": 0.9999999999999899,
"pixelSizeY": 0.9999999999999899,
"datasetFormat": "AMD",
"uncompressedSize": 256685451849,
"blockWidth": 2048,
"blockHeight": 256,
"compressionType": "None",
"bandNames": [
"Band_1"
],
"allowCopy": true,
"allowAnalysis": true,
"bandCount": 1,
"pixelType": "U8",
"minPixelSize": 0,
"maxPixelSize": 0,
"copyrightText": "NCCGIA, NCDOT, NC Geologic Survey; USGS, NPS, US ACE (Wilmington), US DOI, NRCS",
"serviceDataType": "esriImageServiceDataTypeProcessed",
"serviceSourceType": "esriImageServiceSourceTypeMosaicDataset",
"minValues": [
0
],
"maxValues": [
255
],
"meanValues": [
108.9953445201533
],
"stdvValues": [
24.243818418112205
],
"objectIdField": "objectid",
"fields": [
{
"name": "objectid",
"type": "esriFieldTypeOID",
"alias": "OBJECTID",
"domain": null
},
{
"name": "name",
"type": "esriFieldTypeString",
"alias": "Name",
"domain": null,
"length": 200
},
{
"name": "minps",
"type": "esriFieldTypeDouble",
"alias": "MinPS",
"domain": null
},
{
"name": "maxps",
"type": "esriFieldTypeDouble",
"alias": "MaxPS",
"domain": null
},
{
"name": "lowps",
"type": "esriFieldTypeDouble",
"alias": "LowPS",
"domain": null
},
{
"name": "highps",
"type": "esriFieldTypeDouble",
"alias": "HighPS",
"domain": null
},
{
"name": "category",
"type": "esriFieldTypeInteger",
"alias": "Category",
"domain": {
"type": "codedValue",
"name": "MosaicCatalogItemCategoryDomain",
"description": "Catalog item categories.",
"codedValues": [
{
"name": "Unknown",
"code": 0
},
{
"name": "Primary",
"code": 1
},
{
"name": "Overview",
"code": 2
},
{
"name": "Unprocessed Overview",
"code": 3
},
{
"name": "Partial Overview",
"code": 4
},
{
"name": "Inactive",
"code": 5
},
{
"name": "Uploaded",
"code": 253
},
{
"name": "Incomplete",
"code": 254
},
{
"name": "Custom",
"code": 255
}
],
"mergePolicy": "esriMPTDefaultValue",
"splitPolicy": "esriSPTDefaultValue"
}
},
{
"name": "tag",
"type": "esriFieldTypeString",
"alias": "Tag",
"domain": null,
"length": 100
},
{
"name": "groupname",
"type": "esriFieldTypeString",
"alias": "GroupName",
"domain": null,
"length": 100
},
{
"name": "productname",
"type": "esriFieldTypeString",
"alias": "ProductName",
"domain": null,
"length": 100
},
{
"name": "centerx",
"type": "esriFieldTypeDouble",
"alias": "CenterX",
"domain": null
},
{
"name": "centery",
"type": "esriFieldTypeDouble",
"alias": "CenterY",
"domain": null
},
{
"name": "zorder",
"type": "esriFieldTypeInteger",
"alias": "ZOrder",
"domain": null
},
{
"name": "date",
"type": "esriFieldTypeDate",
"alias": "Date",
"domain": null,
"length": 8
},
{
"name": "shape",
"type": "esriFieldTypeGeometry",
"alias": "Shape",
"domain": null
}
],
"capabilities": "Catalog,Mensuration,Image,Metadata",
"defaultMosaicMethod": "Northwest",
"allowedMosaicMethods": "NorthWest,Center,LockRaster,ByAttribute,Nadir,Viewpoint,Seamline,None",
"sortField": "",
"sortValue": null,
"sortAscending": true,
"mosaicOperator": "First",
"maxDownloadSizeLimit": 2048,
"defaultCompressionQuality": 75,
"defaultResamplingMethod": "Bilinear",
"maxImageHeight": 10000,
"maxImageWidth": 15000,
"maxRecordCount": 1000,
"maxDownloadImageCount": 20,
"maxMosaicImageCount": 20,
"allowRasterFunction": true,
"rasterFunctionInfos": [
{
"name": "None",
"description": "",
"help": ""
}
],
"rasterTypeInfos": [
{
"name": "Raster Dataset",
"description": "Supports all ArcGIS Raster Datasets",
"help": ""
}
],
"mensurationCapabilities": "Basic",
"hasHistograms": true,
"hasColormap": false,
"hasRasterAttributeTable": false,
"minScale": 0,
"maxScale": 0,
"exportTilesAllowed": false,
"supportsStatistics": true,
"supportsAdvancedQueries": true,
"editFieldsInfo": null,
"ownershipBasedAccessControlForRasters": null,
"allowComputeTiePoints": false,
"useStandardizedQueries": true,
"advancedQueryCapabilities": {
"useStandardizedQueries": true,
"supportsStatistics": true,
"supportsOrderBy": true,
"supportsDistinct": true,
"supportsPagination": true
},
"spatialReference": {
"wkid": 32119,
"latestWkid": 32119
}
}