{ "currentVersion": 10.91, "serviceDescription": "
Depicts true color imagery for the 25 counties representing the coastal plain region of North Carolina. The imagery has a pixel resolution of 6 inches and was flown in the beginning of 2012. The RMSE is 1.5 ft X and Y. Individual pixel values may have been altered during image processing. Therefore, this service should be used for general reference and viewing. Image analysis requiring examination of individual pixel values is discouraged. <\/span><\/p><\/div><\/div><\/div>",
"name": "Imagery/Orthoimagery_2012",
"description": " Depicts true color imagery for the 25 counties representing the coastal plain region of North Carolina. The imagery has a pixel resolution of 6 inches and was flown in the beginning of 2012. The RMSE is 1.5 ft X and Y. Individual pixel values may have been altered during image processing. Therefore, this service should be used for general reference and viewing. Image analysis requiring examination of individual pixel values is discouraged. <\/span><\/p><\/div><\/div><\/div>",
"extent": {
"xmin": 2104999.997436464,
"ymin": 24999.999915137887,
"xmax": 3054999.997436464,
"ymax": 1039999.9999151379,
"spatialReference": {
"wkid": 103122,
"latestWkid": 6543
}
},
"initialExtent": {
"xmin": 2104999.997436464,
"ymin": 24999.999915137887,
"xmax": 3054999.997436464,
"ymax": 1039999.9999151379,
"spatialReference": {
"wkid": 103122,
"latestWkid": 6543
}
},
"fullExtent": {
"xmin": 2104999.997436464,
"ymin": 24999.999915137887,
"xmax": 3054999.997436464,
"ymax": 1039999.9999151379,
"spatialReference": {
"wkid": 103122,
"latestWkid": 6543
}
},
"hasMultidimensions": false,
"pixelSizeX": 0.5,
"pixelSizeY": 0.5,
"datasetFormat": "AMD",
"uncompressedSize": 11571000000000,
"blockWidth": 2048,
"blockHeight": 256,
"compressionType": "None",
"bandNames": [
"Band_1",
"Band_2",
"Band_3"
],
"allowCopy": true,
"allowAnalysis": true,
"bandCount": 3,
"pixelType": "U8",
"minPixelSize": 0,
"maxPixelSize": 0,
"copyrightText": "NCCGIA, NC 911 Board",
"serviceDataType": "esriImageServiceDataTypeProcessed",
"serviceSourceType": "esriImageServiceSourceTypeMosaicDataset",
"minValues": [
0,
0,
0
],
"maxValues": [
255,
236,
235
],
"meanValues": [
95.33289007652398,
96.43043354055312,
87.9579125132398
],
"stdvValues": [
31.86762135403017,
28.728581749630326,
25.903536882569263
],
"objectIdField": "objectid",
"fields": [
{
"name": "objectid",
"type": "esriFieldTypeOID",
"alias": "OBJECTID",
"domain": null
},
{
"name": "name",
"type": "esriFieldTypeString",
"alias": "Name",
"domain": null,
"length": 200
},
{
"name": "minps",
"type": "esriFieldTypeDouble",
"alias": "MinPS",
"domain": null
},
{
"name": "maxps",
"type": "esriFieldTypeDouble",
"alias": "MaxPS",
"domain": null
},
{
"name": "lowps",
"type": "esriFieldTypeDouble",
"alias": "LowPS",
"domain": null
},
{
"name": "highps",
"type": "esriFieldTypeDouble",
"alias": "HighPS",
"domain": null
},
{
"name": "category",
"type": "esriFieldTypeInteger",
"alias": "Category",
"domain": {
"type": "codedValue",
"name": "MosaicCatalogItemCategoryDomain",
"description": "Catalog item categories.",
"codedValues": [
{
"name": "Unknown",
"code": 0
},
{
"name": "Primary",
"code": 1
},
{
"name": "Overview",
"code": 2
},
{
"name": "Unprocessed Overview",
"code": 3
},
{
"name": "Partial Overview",
"code": 4
},
{
"name": "Inactive",
"code": 5
},
{
"name": "Uploaded",
"code": 253
},
{
"name": "Incomplete",
"code": 254
},
{
"name": "Custom",
"code": 255
}
],
"mergePolicy": "esriMPTDefaultValue",
"splitPolicy": "esriSPTDefaultValue"
}
},
{
"name": "tag",
"type": "esriFieldTypeString",
"alias": "Tag",
"domain": null,
"length": 100
},
{
"name": "groupname",
"type": "esriFieldTypeString",
"alias": "GroupName",
"domain": null,
"length": 100
},
{
"name": "productname",
"type": "esriFieldTypeString",
"alias": "ProductName",
"domain": null,
"length": 100
},
{
"name": "centerx",
"type": "esriFieldTypeDouble",
"alias": "CenterX",
"domain": null
},
{
"name": "centery",
"type": "esriFieldTypeDouble",
"alias": "CenterY",
"domain": null
},
{
"name": "zorder",
"type": "esriFieldTypeInteger",
"alias": "ZOrder",
"domain": null
},
{
"name": "date",
"type": "esriFieldTypeDate",
"alias": "Date",
"domain": null,
"length": 8
},
{
"name": "shape",
"type": "esriFieldTypeGeometry",
"alias": "Shape",
"domain": null
}
],
"capabilities": "Catalog,Mensuration,Image,Metadata",
"defaultMosaicMethod": "Northwest",
"allowedMosaicMethods": "NorthWest,Center,LockRaster,ByAttribute,Nadir,Viewpoint,Seamline,None",
"sortField": "",
"sortValue": null,
"sortAscending": true,
"mosaicOperator": "First",
"maxDownloadSizeLimit": 2048,
"defaultCompressionQuality": 75,
"defaultResamplingMethod": "Bilinear",
"maxImageHeight": 10000,
"maxImageWidth": 15000,
"maxRecordCount": 1000,
"maxDownloadImageCount": 20,
"maxMosaicImageCount": 20,
"allowRasterFunction": true,
"rasterFunctionInfos": [
{
"name": "None",
"description": "",
"help": ""
}
],
"rasterTypeInfos": [
{
"name": "Raster Dataset",
"description": "Supports all ArcGIS Raster Datasets",
"help": ""
}
],
"mensurationCapabilities": "Basic",
"hasHistograms": true,
"hasColormap": false,
"hasRasterAttributeTable": false,
"minScale": 0,
"maxScale": 0,
"exportTilesAllowed": false,
"supportsStatistics": true,
"supportsAdvancedQueries": true,
"editFieldsInfo": null,
"ownershipBasedAccessControlForRasters": null,
"allowComputeTiePoints": false,
"useStandardizedQueries": true,
"advancedQueryCapabilities": {
"useStandardizedQueries": true,
"supportsStatistics": true,
"supportsOrderBy": true,
"supportsDistinct": true,
"supportsPagination": true
},
"spatialReference": {
"wkid": 103122,
"latestWkid": 6543
}
}