{ "currentVersion": 10.91, "serviceDescription": "
Product: These data were acquired by the NC Collaboratory at UNC Chapel Hill utilizing funds appropriated by the NC General Assembly. This orthoimagery data set includes 6 in digital orthoimages in GeoTIFF tiles and 32-bit 4-band (RGBIR).Geographic Extent: 13 counties in NorthCarolina, covering approximately 5,323 total square miles. Counties covered in their entirety for this project included: Alexander, Ashe, Watauga, Avery, Mitchell, Burke, Yancey, McDowell, Rutherford, Buncombe, Henderson, Haywood, and Jackson. Dataset Description: The Helene-North Carolina Priority 1 Lidar and Imagery project called for the planning, acquisition, and processing of imagery data to be collected at a ground sample distance (GSD) of 6 in. Project specifications are based on the American Society of Photogrammetry and Remote Sensing (ASPRS) standards. The data were developed based on a horizontal projection/datum of NAD 1983 2011 StatePlane North Carolina FIPS 3200 US Survey Foot. Imagery data were delivered as 6 in GeoTIFF tiles and 32-bit 4-band (RGBIR). Tiled deliverables contained 6,768 individual 5,000 ft x 5,000 ft tiles.Ground Conditions: Imagery was collected in spring 2025, and meets project acquisition parameters of being snow and ice free (though some light, undrifted snow may be present), no unusual flooding or water inundation, and leaf off conditions. The AECOM team established a total of 49 check points to assess the horizontal accuracy of the data, of which 39 were useable. The imagery data was post processed to meet task order specifications and was tested to meet ASPRS horizontal accuracy guidelines. Seamline editing and photoshop adjustments were focused on major transportation features due to the rapid response nature of the project and the need for damage analysis. Areas outside of major transportation features may exhibit seamline displacement and other anomalies such as smears.<\/span><\/p><\/div><\/div><\/div>",
"name": "Imagery/Orthoimagery_Helene_2025",
"description": " Product: These data were acquired by the NC Collaboratory at UNC Chapel Hill utilizing funds appropriated by the NC General Assembly. This orthoimagery data set includes 6 in digital orthoimages in GeoTIFF tiles and 32-bit 4-band (RGBIR).Geographic Extent: 13 counties in NorthCarolina, covering approximately 5,323 total square miles. Counties covered in their entirety for this project included: Alexander, Ashe, Watauga, Avery, Mitchell, Burke, Yancey, McDowell, Rutherford, Buncombe, Henderson, Haywood, and Jackson. Dataset Description: The Helene-North Carolina Priority 1 Lidar and Imagery project called for the planning, acquisition, and processing of imagery data to be collected at a ground sample distance (GSD) of 6 in. Project specifications are based on the American Society of Photogrammetry and Remote Sensing (ASPRS) standards. The data were developed based on a horizontal projection/datum of NAD 1983 2011 StatePlane North Carolina FIPS 3200 US Survey Foot. Imagery data were delivered as 6 in GeoTIFF tiles and 32-bit 4-band (RGBIR). Tiled deliverables contained 6,768 individual 5,000 ft x 5,000 ft tiles.Ground Conditions: Imagery was collected in spring 2025, and meets project acquisition parameters of being snow and ice free (though some light, undrifted snow may be present), no unusual flooding or water inundation, and leaf off conditions. The AECOM team established a total of 49 check points to assess the horizontal accuracy of the data, of which 39 were useable. The imagery data was post processed to meet task order specifications and was tested to meet ASPRS horizontal accuracy guidelines. Seamline editing and photoshop adjustments were focused on major transportation features due to the rapid response nature of the project and the need for damage analysis. Areas outside of major transportation features may exhibit seamline displacement and other anomalies such as smears.<\/span><\/p><\/div><\/div><\/div>",
"extent": {
"xmin": 694999.9998567998,
"ymin": 474999.9999282211,
"xmax": 1409999.9998567998,
"ymax": 1049999.999928221,
"spatialReference": {
"wkid": 103122,
"latestWkid": 6543
}
},
"initialExtent": {
"xmin": 694999.9998567998,
"ymin": 474999.9999282211,
"xmax": 1409999.9998567998,
"ymax": 1049999.999928221,
"spatialReference": {
"wkid": 103122,
"latestWkid": 6543
}
},
"fullExtent": {
"xmin": 694999.9998567998,
"ymin": 474999.9999282211,
"xmax": 1409999.9998567998,
"ymax": 1049999.999928221,
"spatialReference": {
"wkid": 103122,
"latestWkid": 6543
}
},
"hasMultidimensions": false,
"pixelSizeX": 0.5,
"pixelSizeY": 0.5,
"datasetFormat": "AMD",
"uncompressedSize": 4933500000000,
"blockWidth": 2048,
"blockHeight": 256,
"compressionType": "None",
"bandNames": [
"Band_1",
"Band_2",
"Band_3"
],
"allowCopy": true,
"allowAnalysis": true,
"bandCount": 3,
"pixelType": "U8",
"minPixelSize": 0,
"maxPixelSize": 0,
"copyrightText": "NC Collaboratory at UNC Chapel Hill",
"serviceDataType": "esriImageServiceDataTypeProcessed",
"serviceSourceType": "esriImageServiceSourceTypeMosaicDataset",
"minValues": [
0,
0,
0
],
"maxValues": [
255,
255,
255
],
"meanValues": [
95.5657228322552,
93.23931179961164,
80.26331156964221
],
"stdvValues": [
43.40799302223373,
39.06687806956302,
34.13712826869412
],
"objectIdField": "objectid",
"fields": [
{
"name": "objectid",
"type": "esriFieldTypeOID",
"alias": "OBJECTID",
"domain": null
},
{
"name": "name",
"type": "esriFieldTypeString",
"alias": "Name",
"domain": null,
"length": 200
},
{
"name": "minps",
"type": "esriFieldTypeDouble",
"alias": "MinPS",
"domain": null
},
{
"name": "maxps",
"type": "esriFieldTypeDouble",
"alias": "MaxPS",
"domain": null
},
{
"name": "lowps",
"type": "esriFieldTypeDouble",
"alias": "LowPS",
"domain": null
},
{
"name": "highps",
"type": "esriFieldTypeDouble",
"alias": "HighPS",
"domain": null
},
{
"name": "category",
"type": "esriFieldTypeInteger",
"alias": "Category",
"domain": {
"type": "codedValue",
"name": "MosaicCatalogItemCategoryDomain",
"description": "Catalog item categories.",
"codedValues": [
{
"name": "Unknown",
"code": 0
},
{
"name": "Primary",
"code": 1
},
{
"name": "Overview",
"code": 2
},
{
"name": "Unprocessed Overview",
"code": 3
},
{
"name": "Partial Overview",
"code": 4
},
{
"name": "Inactive",
"code": 5
},
{
"name": "Uploaded",
"code": 253
},
{
"name": "Incomplete",
"code": 254
},
{
"name": "Custom",
"code": 255
}
],
"mergePolicy": "esriMPTDefaultValue",
"splitPolicy": "esriSPTDefaultValue"
}
},
{
"name": "tag",
"type": "esriFieldTypeString",
"alias": "Tag",
"domain": null,
"length": 100
},
{
"name": "groupname",
"type": "esriFieldTypeString",
"alias": "GroupName",
"domain": null,
"length": 100
},
{
"name": "productname",
"type": "esriFieldTypeString",
"alias": "ProductName",
"domain": null,
"length": 100
},
{
"name": "centerx",
"type": "esriFieldTypeDouble",
"alias": "CenterX",
"domain": null
},
{
"name": "centery",
"type": "esriFieldTypeDouble",
"alias": "CenterY",
"domain": null
},
{
"name": "zorder",
"type": "esriFieldTypeInteger",
"alias": "ZOrder",
"domain": null
},
{
"name": "date",
"type": "esriFieldTypeDate",
"alias": "date",
"domain": null,
"length": 8
},
{
"name": "shape",
"type": "esriFieldTypeGeometry",
"alias": "Shape",
"domain": null
}
],
"capabilities": "Catalog,Mensuration,Image,Metadata",
"defaultMosaicMethod": "Northwest",
"allowedMosaicMethods": "NorthWest,Center,LockRaster,ByAttribute,Nadir,Viewpoint,Seamline,None",
"sortField": "",
"sortValue": null,
"sortAscending": true,
"mosaicOperator": "First",
"maxDownloadSizeLimit": 2048,
"defaultCompressionQuality": 80,
"defaultResamplingMethod": "Bilinear",
"maxImageHeight": 4100,
"maxImageWidth": 15000,
"maxRecordCount": 1000,
"maxDownloadImageCount": 20,
"maxMosaicImageCount": 20,
"allowRasterFunction": true,
"rasterFunctionInfos": [
{
"name": "None",
"description": "",
"help": ""
}
],
"rasterTypeInfos": [
{
"name": "Raster Dataset",
"description": "Supports all ArcGIS Raster Datasets",
"help": ""
}
],
"mensurationCapabilities": "Basic",
"hasHistograms": true,
"hasColormap": false,
"hasRasterAttributeTable": false,
"minScale": 0,
"maxScale": 0,
"exportTilesAllowed": false,
"supportsStatistics": true,
"supportsAdvancedQueries": true,
"editFieldsInfo": null,
"ownershipBasedAccessControlForRasters": null,
"allowComputeTiePoints": false,
"useStandardizedQueries": true,
"advancedQueryCapabilities": {
"useStandardizedQueries": true,
"supportsStatistics": true,
"supportsOrderBy": true,
"supportsDistinct": true,
"supportsPagination": true
},
"spatialReference": {
"wkid": 103122,
"latestWkid": 6543
}
}