View In:
ArcGIS JavaScript
ArcGIS Online Map Viewer
ArcGIS Earth
ArcMap
View Footprint In:
ArcGIS Online Map Viewer
Service Description: Depicts true color imagery for the 26 counties representing the Eastern Piedmont region of North Carolina. This includes the following counties: Bladen, Chatham, Cumberland, Durham, Edgecombe, Franklin, ,Granville, Halifax, Harnett, Hoke, Johnston, Lee, Moore, Nash, Northampton, Orange, Person, Richmond, Robeson, Sampson, Scotland, Vance, Wake, Warren, Wayne, and Wilson. The imagery has a pixel resolution of 6 inches and was flown in the beginning of 2017. The RMSE is 1.5 ft X and Y. Individual pixel values may have been altered during image processing. Therefore, this service should be used for general reference and viewing. Image analysis requiring examination of individual pixel values is discouraged.
Name: Imagery/Orthoimagery_2017
Description: Depicts true color imagery for the 26 counties representing the Eastern Piedmont region of North Carolina. This includes the following counties: Bladen, Chatham, Cumberland, Durham, Edgecombe, Franklin, ,Granville, Halifax, Harnett, Hoke, Johnston, Lee, Moore, Nash, Northampton, Orange, Person, Richmond, Robeson, Sampson, Scotland, Vance, Wake, Warren, Wayne, and Wilson. The imagery has a pixel resolution of 6 inches and was flown in the beginning of 2017. The RMSE is 1.5 ft X and Y. Individual pixel values may have been altered during image processing. Therefore, this service should be used for general reference and viewing. Image analysis requiring examination of individual pixel values is discouraged.
Single Fused Map Cache: false
Extent:
XMin: 1671455.33348806
YMin: 194296.00005956006
XMax: 2572499.33348806
YMax: 1025356.00005956
Spatial Reference: 103122
(6543)
LatestVCSWkid(0)
Initial Extent:
XMin: 1671455.33348806
YMin: 194296.00005956006
XMax: 2572499.33348806
YMax: 1025356.00005956
Spatial Reference: 103122
(6543)
LatestVCSWkid(0)
Full Extent:
XMin: 1671455.33348806
YMin: 194296.00005956006
XMax: 2572499.33348806
YMax: 1025356.00005956
Spatial Reference: 103122
(6543)
LatestVCSWkid(0)
Pixel Size X: 0.5000000000000001
Pixel Size Y: 0.5
Band Count: 3
Pixel Type: U8
RasterFunction Infos: {"rasterFunctionInfos": [{
"name": "None",
"description": "",
"help": ""
}]}
Mensuration Capabilities: Basic
Has Histograms: false
Has Colormap: false
Has Multi Dimensions : false
Rendering Rule:
Min Scale: 0
Max Scale: 0
Copyright Text: NCCGIA, NC 911 Board
Service Data Type: esriImageServiceDataTypeRGB
Min Values: N/A
Max Values: N/A
Mean Values: N/A
Standard Deviation Values: N/A
Object ID Field: objectid
Fields:
-
objectid
(
type: esriFieldTypeOID, alias: OBJECTID
)
-
name
(
type: esriFieldTypeString, alias: Name, length: 200
)
-
minps
(
type: esriFieldTypeDouble, alias: MinPS
)
-
maxps
(
type: esriFieldTypeDouble, alias: MaxPS
)
-
lowps
(
type: esriFieldTypeDouble, alias: LowPS
)
-
highps
(
type: esriFieldTypeDouble, alias: HighPS
)
-
category
(
type: esriFieldTypeInteger, alias: Category
, Coded Values:
[0: Unknown]
, [1: Primary]
, [2: Overview]
, ...6 more...
)
-
tag
(
type: esriFieldTypeString, alias: Tag, length: 100
)
-
groupname
(
type: esriFieldTypeString, alias: GroupName, length: 100
)
-
productname
(
type: esriFieldTypeString, alias: ProductName, length: 100
)
-
centerx
(
type: esriFieldTypeDouble, alias: CenterX
)
-
centery
(
type: esriFieldTypeDouble, alias: CenterY
)
-
zorder
(
type: esriFieldTypeInteger, alias: ZOrder
)
-
date
(
type: esriFieldTypeDate, alias: Date, length: 8
)
-
shape
(
type: esriFieldTypeGeometry, alias: Shape
)
Default Mosaic Method: Northwest
Allowed Mosaic Methods: NorthWest,Center,LockRaster,ByAttribute,Nadir,Viewpoint,Seamline,None
SortField:
SortValue: null
Mosaic Operator: First
Default Compression Quality: 75
Default Resampling Method: Bilinear
Max Record Count: 1000
Max Image Height: 4100
Max Image Width: 15000
Max Download Image Count: 20
Max Mosaic Image Count: 20
Allow Raster Function: true
Allow Copy: true
Allow Analysis: true
Allow Compute TiePoints: false
Supports Statistics: true
Supports Advanced Queries: true
Use StandardizedQueries: true
Raster Type Infos:
Name: Raster Dataset
Description: Supports all ArcGIS Raster Datasets
Help:
Has Raster Attribute Table: false
Edit Fields Info: null
Ownership Based AccessControl For Rasters: null
Child Resources:
Info
Statistics
Key Properties
Legend
Raster Function Infos
Supported Operations:
Export Image
Query
Identify
Measure
Compute Histograms
Compute Statistics Histograms
Get Samples
Compute Class Statistics
Query Boundary
Compute Pixel Location
Compute Angles
Validate
Project