View In:
ArcGIS JavaScript
ArcGIS Online Map Viewer
ArcGIS Earth
ArcMap
View Footprint In:
ArcGIS Online Map Viewer
Service Description: Since 2020, the NC Orthoimagery Program has collected 4-band imagery (red, green, blue, near infrared) to support image analysis. The 2022 imagery collection includes the 26 counties representing the Northern Piedmont and Mountains region of North Carolina. This version of the data is presented as true color (red, green, blue) imagery and is best used for general or background viewing. The imagery has a pixel resolution of 6 inches and an RMSE is 1.0 ft X and Y.
Name: Imagery/Orthoimagery_2022
Description: Since 2020, the NC Orthoimagery Program has collected 4-band imagery (red, green, blue, near infrared) to support image analysis. The 2022 imagery collection includes the 26 counties representing the Northern Piedmont and Mountains region of North Carolina. This version of the data is presented as true color (red, green, blue) imagery and is best used for general or background viewing. The imagery has a pixel resolution of 6 inches and an RMSE is 1.0 ft X and Y.
Single Fused Map Cache: false
Extent:
XMin: 819818.9998902231
YMin: 634882.0000283122
XMax: 1965162.9998902231
YMax: 1050114.0000283122
Spatial Reference: 103122
(6543)
LatestVCSWkid(0)
Initial Extent:
XMin: 819818.9998902231
YMin: 634882.0000283122
XMax: 1965162.9998902231
YMax: 1050114.0000283122
Spatial Reference: 103122
(6543)
LatestVCSWkid(0)
Full Extent:
XMin: 819818.9998902231
YMin: 634882.0000283122
XMax: 1965162.9998902231
YMax: 1050114.0000283122
Spatial Reference: 103122
(6543)
LatestVCSWkid(0)
Pixel Size X: 0.5
Pixel Size Y: 0.5
Band Count: 3
Pixel Type: U8
RasterFunction Infos: {"rasterFunctionInfos": [{
"name": "None",
"description": "",
"help": ""
}]}
Mensuration Capabilities: Basic
Has Histograms: true
Has Colormap: false
Has Multi Dimensions : false
Rendering Rule:
Min Scale: 0
Max Scale: 0
Copyright Text: NCCGIA, NC 911 Board
Service Data Type: esriImageServiceDataTypeProcessed
Min Values: 0, 9, 0
Max Values: 250, 246, 234
Mean Values: 94.87865068133969, 92.54022268239785, 78.28042240213732
Standard Deviation Values: 26.958873661258124, 25.17547126332778, 23.379655512155097
Object ID Field: objectid
Fields:
-
objectid
(
type: esriFieldTypeOID, alias: OBJECTID
)
-
name
(
type: esriFieldTypeString, alias: Name, length: 200
)
-
minps
(
type: esriFieldTypeDouble, alias: MinPS
)
-
maxps
(
type: esriFieldTypeDouble, alias: MaxPS
)
-
lowps
(
type: esriFieldTypeDouble, alias: LowPS
)
-
highps
(
type: esriFieldTypeDouble, alias: HighPS
)
-
category
(
type: esriFieldTypeInteger, alias: Category
, Coded Values:
[0: Unknown]
, [1: Primary]
, [2: Overview]
, ...6 more...
)
-
tag
(
type: esriFieldTypeString, alias: Tag, length: 100
)
-
groupname
(
type: esriFieldTypeString, alias: GroupName, length: 100
)
-
productname
(
type: esriFieldTypeString, alias: ProductName, length: 100
)
-
centerx
(
type: esriFieldTypeDouble, alias: CenterX
)
-
centery
(
type: esriFieldTypeDouble, alias: CenterY
)
-
zorder
(
type: esriFieldTypeInteger, alias: ZOrder
)
-
date
(
type: esriFieldTypeDate, alias: Date, length: 8
)
-
shape
(
type: esriFieldTypeGeometry, alias: Shape
)
Default Mosaic Method: Northwest
Allowed Mosaic Methods: NorthWest,Center,LockRaster,ByAttribute,Nadir,Viewpoint,Seamline,None
SortField:
SortValue: null
Mosaic Operator: First
Default Compression Quality: 80
Default Resampling Method: Bilinear
Max Record Count: 1000
Max Image Height: 4100
Max Image Width: 15000
Max Download Image Count: 20
Max Mosaic Image Count: 200
Allow Raster Function: true
Allow Copy: true
Allow Analysis: true
Allow Compute TiePoints: false
Supports Statistics: true
Supports Advanced Queries: true
Use StandardizedQueries: true
Raster Type Infos:
Name: Raster Dataset
Description: Supports all ArcGIS Raster Datasets
Help:
Has Raster Attribute Table: false
Edit Fields Info: null
Ownership Based AccessControl For Rasters: null
Child Resources:
Info
Histograms
Statistics
Key Properties
Legend
Raster Function Infos
Supported Operations:
Export Image
Query
Identify
Measure
Compute Histograms
Compute Statistics Histograms
Get Samples
Compute Class Statistics
Query Boundary
Compute Pixel Location
Compute Angles
Validate
Project