View In:
ArcGIS JavaScript
ArcGIS Online Map Viewer
ArcGIS Earth
ArcMap
View Footprint In:
ArcGIS Online Map Viewer
Service Description: Depicts imagery (3-band, true color) for the 22 counties representing Southern Piedmont and Mountains regions of North Carolina. The imagery was flown in early 2023 as part of the NC Orthoimagery Program and has a pixel resolution of 6 inches. The RMSE is 1.0 ft X and Y. Pixel values have been altered during processing so this data is best suited for general viewing and should not be used for raster analysis.
Name: Imagery/Orthoimagery_2024
Description:
NOTE: DO NOT DOWNLOAD THE IMAGERY BY USING THE MAP OR DOWNLOAD TOOLS ON THIS ARCGIS HUB ITEM PAGE. IT WILL RESULT IN A PIXELATED ORTHOIMAGE. INSTEAD, DOWNLOAD THE IMAGERY BY TILE OR BY COUNTY MOSAIC (2010 - current year).
Metadata:
-
Summary metadata for orthoimagery mosaics
-
Summary metadata for orthoimagery tiles
-
Contractor-specific metadata for Camden, Chowan, Currituck, Dare, Gates, Perquimans, and Pasquotank counties
-
Contractor-specific metadata for Bertie, Beaufort, Greene, Hertford, Martin, and Pitt counties
-
Contractor-specific metadata for Dare, Hyde, Tyrrell, and Washington counties
-
Contractor-specific metadata for Carteret, Craven, Jones, Lenoir (east side), Onslow, Pamlico and Pender (east side: 115 tile) counties, plus a smaller portion of Duplin (5 tiles)
-
Contractor-specific metadata for Brunswick, Columbus, Duplin, Jones, Lenoir, New Hanover, Pender counties
Single Fused Map Cache: false
Extent:
XMin: 1972844.9999359697
YMin: 24579.99975556135
XMax: 3055724.9999359697
YMax: 1040899.9997555614
Spatial Reference: 103122
(6543)
Initial Extent:
XMin: 1972844.9999359697
YMin: 24579.99975556135
XMax: 3055724.9999359697
YMax: 1040899.9997555614
Spatial Reference: 103122
(6543)
Full Extent:
XMin: 1972844.9999359697
YMin: 24579.99975556135
XMax: 3055724.9999359697
YMax: 1040899.9997555614
Spatial Reference: 103122
(6543)
Pixel Size X: 0.5
Pixel Size Y: 0.5
Band Count: 3
Pixel Type: U8
RasterFunction Infos: {"rasterFunctionInfos": [{
"name": "None",
"description": "",
"help": ""
}]}
Mensuration Capabilities: Basic
Has Histograms: true
Has Colormap: false
Has Multi Dimensions : false
Rendering Rule:
Min Scale: 0
Max Scale: 0
Copyright Text: NCCGIA, NC 911 Board
Service Data Type: esriImageServiceDataTypeProcessed
Min Values: 0, 0, 0
Max Values: 255, 255, 255
Mean Values: 95.5657228322552, 93.23931179961164, 80.26331156964221
Standard Deviation Values: 43.40799302223373, 39.06687806956302, 34.13712826869412
Object ID Field: objectid
Fields:
-
objectid
(
type: esriFieldTypeOID, alias: OBJECTID
)
-
name
(
type: esriFieldTypeString, alias: Name, length: 200
)
-
minps
(
type: esriFieldTypeDouble, alias: MinPS
)
-
maxps
(
type: esriFieldTypeDouble, alias: MaxPS
)
-
lowps
(
type: esriFieldTypeDouble, alias: LowPS
)
-
highps
(
type: esriFieldTypeDouble, alias: HighPS
)
-
category
(
type: esriFieldTypeInteger, alias: Category
, Coded Values:
[0: Unknown]
, [1: Primary]
, [2: Overview]
, ...6 more...
)
-
tag
(
type: esriFieldTypeString, alias: Tag, length: 100
)
-
groupname
(
type: esriFieldTypeString, alias: GroupName, length: 100
)
-
productname
(
type: esriFieldTypeString, alias: ProductName, length: 100
)
-
centerx
(
type: esriFieldTypeDouble, alias: CenterX
)
-
centery
(
type: esriFieldTypeDouble, alias: CenterY
)
-
zorder
(
type: esriFieldTypeInteger, alias: ZOrder
)
-
date
(
type: esriFieldTypeDate, alias: Date, length: 8
)
-
shape
(
type: esriFieldTypeGeometry, alias: Shape
)
Default Mosaic Method: Northwest
Allowed Mosaic Methods: NorthWest,Center,LockRaster,ByAttribute,Nadir,Viewpoint,Seamline,None
SortField:
SortValue: null
Mosaic Operator: First
Default Compression Quality: 80
Default Resampling Method: Bilinear
Max Record Count: 1000
Max Image Height: 4100
Max Image Width: 15000
Max Download Image Count: 20
Max Mosaic Image Count: 20
Allow Raster Function: true
Allow Copy: true
Allow Analysis: true
Allow Compute TiePoints: false
Supports Statistics: true
Supports Advanced Queries: true
Use StandardizedQueries: true
Raster Type Infos:
Name: Raster Dataset
Description: Supports all ArcGIS Raster Datasets
Help:
Has Raster Attribute Table: false
Edit Fields Info: null
Ownership Based AccessControl For Rasters: null
Child Resources:
Info
Histograms
Statistics
Key Properties
Legend
Raster Function Infos
Supported Operations:
Export Image
Query
Identify
Measure
Compute Histograms
Compute Statistics Histograms
Get Samples
Compute Class Statistics
Query Boundary
Compute Pixel Location
Compute Angles
Validate
Project