View In:
ArcGIS JavaScript
ArcGIS Online Map Viewer
ArcGIS Earth
ArcMap
View Footprint In:
ArcGIS Online Map Viewer
Service Description: Product: These data were acquired by the NC Collaboratory at UNC Chapel Hill utilizing funds appropriated by the NC General Assembly. This orthoimagery data set includes 6 in digital orthoimages in GeoTIFF tiles and 32-bit 4-band (RGBIR).Geographic Extent: 13 counties in NorthCarolina, covering approximately 5,323 total square miles. Counties covered in their entirety for this project included: Alexander, Ashe, Watauga, Avery, Mitchell, Burke, Yancey, McDowell, Rutherford, Buncombe, Henderson, Haywood, and Jackson. Dataset Description: The Helene-North Carolina Priority 1 Lidar and Imagery project called for the planning, acquisition, and processing of imagery data to be collected at a ground sample distance (GSD) of 6 in. Project specifications are based on the American Society of Photogrammetry and Remote Sensing (ASPRS) standards. The data were developed based on a horizontal projection/datum of NAD 1983 2011 StatePlane North Carolina FIPS 3200 US Survey Foot. Imagery data were delivered as 6 in GeoTIFF tiles and 32-bit 4-band (RGBIR). Tiled deliverables contained 6,768 individual 5,000 ft x 5,000 ft tiles.Ground Conditions: Imagery was collected in spring 2025, and meets project acquisition parameters of being snow and ice free (though some light, undrifted snow may be present), no unusual flooding or water inundation, and leaf off conditions. The AECOM team established a total of 49 check points to assess the horizontal accuracy of the data, of which 39 were useable. The imagery data was post processed to meet task order specifications and was tested to meet ASPRS horizontal accuracy guidelines. Seamline editing and photoshop adjustments were focused on major transportation features due to the rapid response nature of the project and the need for damage analysis. Areas outside of major transportation features may exhibit seamline displacement and other anomalies such as smears.
Name: Imagery/Orthoimagery_Helene_2025
Description: Product: These data were acquired by the NC Collaboratory at UNC Chapel Hill utilizing funds appropriated by the NC General Assembly. This orthoimagery data set includes 6 in digital orthoimages in GeoTIFF tiles and 32-bit 4-band (RGBIR).Geographic Extent: 13 counties in NorthCarolina, covering approximately 5,323 total square miles. Counties covered in their entirety for this project included: Alexander, Ashe, Watauga, Avery, Mitchell, Burke, Yancey, McDowell, Rutherford, Buncombe, Henderson, Haywood, and Jackson. Dataset Description: The Helene-North Carolina Priority 1 Lidar and Imagery project called for the planning, acquisition, and processing of imagery data to be collected at a ground sample distance (GSD) of 6 in. Project specifications are based on the American Society of Photogrammetry and Remote Sensing (ASPRS) standards. The data were developed based on a horizontal projection/datum of NAD 1983 2011 StatePlane North Carolina FIPS 3200 US Survey Foot. Imagery data were delivered as 6 in GeoTIFF tiles and 32-bit 4-band (RGBIR). Tiled deliverables contained 6,768 individual 5,000 ft x 5,000 ft tiles.Ground Conditions: Imagery was collected in spring 2025, and meets project acquisition parameters of being snow and ice free (though some light, undrifted snow may be present), no unusual flooding or water inundation, and leaf off conditions. The AECOM team established a total of 49 check points to assess the horizontal accuracy of the data, of which 39 were useable. The imagery data was post processed to meet task order specifications and was tested to meet ASPRS horizontal accuracy guidelines. Seamline editing and photoshop adjustments were focused on major transportation features due to the rapid response nature of the project and the need for damage analysis. Areas outside of major transportation features may exhibit seamline displacement and other anomalies such as smears.
Single Fused Map Cache: false
Extent:
XMin: 694999.9998567998
YMin: 474999.9999282211
XMax: 1409999.9998567998
YMax: 1049999.999928221
Spatial Reference: 103122
(6543)
Initial Extent:
XMin: 694999.9998567998
YMin: 474999.9999282211
XMax: 1409999.9998567998
YMax: 1049999.999928221
Spatial Reference: 103122
(6543)
Full Extent:
XMin: 694999.9998567998
YMin: 474999.9999282211
XMax: 1409999.9998567998
YMax: 1049999.999928221
Spatial Reference: 103122
(6543)
Pixel Size X: 0.5
Pixel Size Y: 0.5
Band Count: 3
Pixel Type: U8
RasterFunction Infos: {"rasterFunctionInfos": [{
"name": "None",
"description": "",
"help": ""
}]}
Mensuration Capabilities: Basic
Has Histograms: true
Has Colormap: false
Has Multi Dimensions : false
Rendering Rule:
Min Scale: 0
Max Scale: 0
Copyright Text: NC Collaboratory at UNC Chapel Hill
Service Data Type: esriImageServiceDataTypeProcessed
Min Values: 0, 0, 0
Max Values: 255, 255, 255
Mean Values: 95.5657228322552, 93.23931179961164, 80.26331156964221
Standard Deviation Values: 43.40799302223373, 39.06687806956302, 34.13712826869412
Object ID Field: objectid
Fields:
-
objectid
(
type: esriFieldTypeOID, alias: OBJECTID
)
-
name
(
type: esriFieldTypeString, alias: Name, length: 200
)
-
minps
(
type: esriFieldTypeDouble, alias: MinPS
)
-
maxps
(
type: esriFieldTypeDouble, alias: MaxPS
)
-
lowps
(
type: esriFieldTypeDouble, alias: LowPS
)
-
highps
(
type: esriFieldTypeDouble, alias: HighPS
)
-
category
(
type: esriFieldTypeInteger, alias: Category
, Coded Values:
[0: Unknown]
, [1: Primary]
, [2: Overview]
, ...6 more...
)
-
tag
(
type: esriFieldTypeString, alias: Tag, length: 100
)
-
groupname
(
type: esriFieldTypeString, alias: GroupName, length: 100
)
-
productname
(
type: esriFieldTypeString, alias: ProductName, length: 100
)
-
centerx
(
type: esriFieldTypeDouble, alias: CenterX
)
-
centery
(
type: esriFieldTypeDouble, alias: CenterY
)
-
zorder
(
type: esriFieldTypeInteger, alias: ZOrder
)
-
date
(
type: esriFieldTypeDate, alias: date, length: 8
)
-
shape
(
type: esriFieldTypeGeometry, alias: Shape
)
Default Mosaic Method: Northwest
Allowed Mosaic Methods: NorthWest,Center,LockRaster,ByAttribute,Nadir,Viewpoint,Seamline,None
SortField:
SortValue: null
Mosaic Operator: First
Default Compression Quality: 80
Default Resampling Method: Bilinear
Max Record Count: 1000
Max Image Height: 4100
Max Image Width: 15000
Max Download Image Count: 20
Max Mosaic Image Count: 20
Allow Raster Function: true
Allow Copy: true
Allow Analysis: true
Allow Compute TiePoints: false
Supports Statistics: true
Supports Advanced Queries: true
Use StandardizedQueries: true
Raster Type Infos:
Name: Raster Dataset
Description: Supports all ArcGIS Raster Datasets
Help:
Has Raster Attribute Table: false
Edit Fields Info: null
Ownership Based AccessControl For Rasters: null
Child Resources:
Info
Histograms
Statistics
Key Properties
Legend
Raster Function Infos
Supported Operations:
Export Image
Query
Identify
Measure
Compute Histograms
Compute Statistics Histograms
Get Samples
Compute Class Statistics
Query Boundary
Compute Pixel Location
Compute Angles
Validate
Project